BEGIN:VCALENDAR
VERSION:2.0
PRODID:-//eventon.com NONSGML v1.0//EN
CALSCALE:GREGORIAN
METHOD:PUBLISH
BEGIN:VEVENT
UID:69e8b05aa291b
DTSTAMP:20260422T112618Z
DTSTART:20241203
DTEND:20241204
LOCATION:Mountain Valley High School 799 Hancock St
SUMMARY:Christmas in the Valley
DESCRIPTION:The Chamber sponsors The Christmas in the Valley Craft Fair th
 e first Saturday in December at Mountain Valley High School. Crafters from 
 all over Maine display their wares during the Christmas season. This fair h
 as 56-63 crafters and is a juried craft fair so everything is either hand-m
 ade or home-made. This[..]\nhttps://rivervalleychamber.com/events/christmas
 -in-the-valley-2/var/ri-2.l-L1
URL:https://rivervalleychamber.com/events/christmas-in-the-valley-2/var/ri-2.l-L1
END:VEVENT
END:VCALENDAR