BEGIN:VCALENDAR
VERSION:2.0
PRODID:-//eventon.com NONSGML v1.0//EN
CALSCALE:GREGORIAN
METHOD:PUBLISH
BEGIN:VEVENT
UID:69ead8c0c6b9d
DTSTAMP:20260424T024312Z
DTSTART:20220712
DTEND:20220713
LOCATION:Oakdale Country Club 13 Country Club Road
SUMMARY:Franklin Savings Bank-River Valley Chamber/River Valley Rotary Charity Golf =Tournament
DESCRIPTION:&nbsp; GOLF REGISTRATION FORM &nbsp; The 20th Annual Franklin S
 avings Bank\,  River Valley Chamber/River Valley Rotary Charity Golf Tourna
 ment will be  held on July 12\,  2022 @ the Oakdale Country Club in Mexico
 . 16 teams of 4 will play the 9-hole course twice for a chance to win an au
 tomobile.[..]\nhttps://rivervalleychamber.com/events/3133/
URL:https://rivervalleychamber.com/events/3133/
END:VEVENT
END:VCALENDAR