BEGIN:VCALENDAR
VERSION:2.0
PRODID:-//eventon.com NONSGML v1.0//EN
CALSCALE:GREGORIAN
METHOD:PUBLISH
BEGIN:VEVENT
UID:69ed09ebda4d6
DTSTAMP:20260425T183731Z
DTSTART:20260714T080000Z
DTEND:20260714T153400Z
LOCATION:
SUMMARY:24th Annual Franklin Savings Bank /River Valley Chamber/River Valley Rotary Charity Golf Tournament
DESCRIPTION:8:00am registration 9:00am Shot gun start Hole in One wins new 
 vehicle from Ripley Ford Register today on the website ; teams fill up fast
 !\nhttps://rivervalleychamber.com/events/24th-annual-franklin-savings-bank-
 river-valley-chamber-river-valley-rotary-charity-golf-tournament/
URL:https://rivervalleychamber.com/events/24th-annual-franklin-savings-bank-river-valley-chamber-river-valley-rotary-charity-golf-tournament/
END:VEVENT
END:VCALENDAR