BEGIN:VCALENDAR
VERSION:2.0
PRODID:-//eventon.com NONSGML v1.0//EN
CALSCALE:GREGORIAN
METHOD:PUBLISH
BEGIN:VEVENT
UID:69eb2cb3dbeeb
DTSTAMP:20260424T084123Z
DTSTART:20180713T180000Z
DTEND:20180713T235000Z
LOCATION:Hotel Rumford Sports Bar 65 Canal Street
SUMMARY:Music with JT & Kitty
DESCRIPTION:Music with JT & Kitty\nhttps://rivervalleychamber.com/events/mu
 sic-with-jt-kitty/
URL:https://rivervalleychamber.com/events/music-with-jt-kitty/
END:VEVENT
END:VCALENDAR