BEGIN:VCALENDAR
VERSION:2.0
PRODID:-//eventon.com NONSGML v1.0//EN
CALSCALE:GREGORIAN
METHOD:PUBLISH
BEGIN:VEVENT
UID:69e86b8f3ca6f
DTSTAMP:20260422T063247Z
DTSTART:20180831T190000Z
DTEND:20180831T235000Z
LOCATION:49 Franklin 49 Franklin Street
SUMMARY:Open Mic Comedy Night
DESCRIPTION:Open Mic Comedy Night\nhttps://rivervalleychamber.com/events/op
 en-mic-comedy-night/
URL:https://rivervalleychamber.com/events/open-mic-comedy-night/
END:VEVENT
END:VCALENDAR