BEGIN:VCALENDAR
VERSION:2.0
PRODID:-//eventon.com NONSGML v1.0//EN
CALSCALE:GREGORIAN
METHOD:PUBLISH
BEGIN:VEVENT
UID:69e5e787d02f6
DTSTAMP:20260420T084455Z
DTSTART:20180913T180000Z
DTEND:20180913T210000Z
LOCATION:Gatch's Food\,  Spirits and Catering 137 Rumford Ave.
SUMMARY:Tom LeClerc Solo Acoustic Performance @ Gatch's
DESCRIPTION:Tom LeClerc Solo Acoustic Performance @ Gatch's\nhttps://riverv
 alleychamber.com/events/tom-leclerc-solo-acoustic-performance-gatchs/
URL:https://rivervalleychamber.com/events/tom-leclerc-solo-acoustic-performance-gatchs/
END:VEVENT
END:VCALENDAR