BEGIN:VCALENDAR
VERSION:2.0
PRODID:-//eventon.com NONSGML v1.0//EN
CALSCALE:GREGORIAN
METHOD:PUBLISH
BEGIN:VEVENT
UID:69e732c1caf85
DTSTAMP:20260421T081809Z
DTSTART:20190330T200000Z
DTEND:20190330T235900Z
LOCATION:Black Mountain of Maine 39 Glover Road
SUMMARY:Live Music with SKOSH
DESCRIPTION:Live Music with SKOSH\nhttps://rivervalleychamber.com/events/li
 ve-music-with-skosh-2/
URL:https://rivervalleychamber.com/events/live-music-with-skosh-2/
END:VEVENT
END:VCALENDAR