BEGIN:VCALENDAR
VERSION:2.0
PRODID:-//eventon.com NONSGML v1.0//EN
CALSCALE:GREGORIAN
METHOD:PUBLISH
BEGIN:VEVENT
UID:69e73141677db
DTSTAMP:20260421T081145Z
DTSTART:20190612T180000Z
DTEND:20190612T235000Z
LOCATION:Mountain Valley High School 799 Hancock St
SUMMARY:Professional Hypnotist Chad Burke @ Mountain Valley High
DESCRIPTION:This event proceeds goes to the Jayce Holt Scholarship Fund Adu
 lts $4\,  Seniors $3\,  Students $2\,  Elementary School Children -Free &nb
 sp; FMI  Larry Thornton   lthornton@rsu10.org\nhttps://rivervalleychamber
 .com/events/professional-hypnotist-chad-burke-mountain-valley-high/
URL:https://rivervalleychamber.com/events/professional-hypnotist-chad-burke-mountain-valley-high/
END:VEVENT
END:VCALENDAR