BEGIN:VCALENDAR
VERSION:2.0
PRODID:-//eventon.com NONSGML v1.0//EN
CALSCALE:GREGORIAN
METHOD:PUBLISH
BEGIN:VEVENT
UID:69e6d4fe7fe0c
DTSTAMP:20260421T013806Z
DTSTART:20221015T100000Z
DTEND:20221015T193000Z
LOCATION:Downtown Rumford
SUMMARY:Pumpkin Fest in Rumford
DESCRIPTION:Pumpkin Fest in Rumford\nhttps://rivervalleychamber.com/events/
 pumpkin-fest-in-rumford-2/
URL:https://rivervalleychamber.com/events/pumpkin-fest-in-rumford-2/
END:VEVENT
END:VCALENDAR