BEGIN:VCALENDAR
VERSION:2.0
PRODID:-//eventon.com NONSGML v1.0//EN
CALSCALE:GREGORIAN
METHOD:PUBLISH
BEGIN:VEVENT
UID:69e731f90ecc4
DTSTAMP:20260421T081449Z
DTSTART:20200319T160000Z
DTEND:20200319T210000Z
LOCATION:Black Mountain of Maine 39 Glover Road
SUMMARY:Free Ski Night @ Black Mountain hosted by Poland Spring Water
DESCRIPTION:Free Ski Night @ Black Mountain hosted by Poland Spring Water\n
 https://rivervalleychamber.com/events/free-ski-night-black-mountain-hosted-
 by-poland-spring-water/
URL:https://rivervalleychamber.com/events/free-ski-night-black-mountain-hosted-by-poland-spring-water/
END:VEVENT
END:VCALENDAR