BEGIN:VCALENDAR
VERSION:2.0
PRODID:-//eventon.com NONSGML v1.0//EN
CALSCALE:GREGORIAN
METHOD:PUBLISH
BEGIN:VEVENT
UID:69eb19827a261
DTSTAMP:20260424T071930Z
DTSTART:20220825T180000Z
DTEND:20220825T200000Z
LOCATION:Veteran&#039;s Park @ the Head of Congress St. in Rumford
SUMMARY:Concerts in the Park-Veteran's Park
DESCRIPTION:Live music with Jim Austin; food truck and more! &nbsp; Hosted 
 by the River Valley Chamber and sponsored by Franklin Savings Bank\nhttps:/
 /rivervalleychamber.com/events/concerts-in-the-park-veterans-park-2/
URL:https://rivervalleychamber.com/events/concerts-in-the-park-veterans-park-2/
END:VEVENT
END:VCALENDAR