BEGIN:VCALENDAR
VERSION:2.0
PRODID:-//eventon.com NONSGML v1.0//EN
CALSCALE:GREGORIAN
METHOD:PUBLISH
BEGIN:VEVENT
UID:69e97220303c8
DTSTAMP:20260423T011304Z
DTSTART:20230212T130000Z
DTEND:20230212T160000Z
LOCATION:Black Mountain of Maine 39 Glover Road
SUMMARY:LIVE music with Fawn & Noel @ Black Mountain
DESCRIPTION:LIVE music with Fawn & Noel @ Black Mountain\nhttps://rivervall
 eychamber.com/events/live-music-with-fawn-noel-black-mountain/
URL:https://rivervalleychamber.com/events/live-music-with-fawn-noel-black-mountain/
END:VEVENT
END:VCALENDAR