BEGIN:VCALENDAR
VERSION:2.0
PRODID:-//eventon.com NONSGML v1.0//EN
CALSCALE:GREGORIAN
METHOD:PUBLISH
BEGIN:VEVENT
UID:69e5ed1623932
DTSTAMP:20260420T090838Z
DTSTART:20221119T080000Z
DTEND:20221119T130000Z
LOCATION:Parish of the Holy Savior 126 Maine Ave.\, 
SUMMARY:Christmas Craft Fair-Parish of the Holy Savior
DESCRIPTION:Christmas Craft Fair-Parish of the Holy Savior\nhttps://riverva
 lleychamber.com/events/christmas-craft-fair-parish-of-the-holy-savior/
URL:https://rivervalleychamber.com/events/christmas-craft-fair-parish-of-the-holy-savior/
END:VEVENT
END:VCALENDAR