BEGIN:VCALENDAR
VERSION:2.0
PRODID:-//eventon.com NONSGML v1.0//EN
CALSCALE:GREGORIAN
METHOD:PUBLISH
BEGIN:VEVENT
UID:69e7313199e55
DTSTAMP:20260421T081129Z
DTSTART:20230409T190000Z
DTEND:20230409T235000Z
LOCATION:Rumford Eagles 129 Rumford Ave
SUMMARY:Mysterious Muzik at the Rumford Eagles
DESCRIPTION:Mysterious Muzik at the Rumford Eagles\nhttps://rivervalleycham
 ber.com/events/mysterious-muzik-at-the-rumford-eagles/
URL:https://rivervalleychamber.com/events/mysterious-muzik-at-the-rumford-eagles/
END:VEVENT
END:VCALENDAR