BEGIN:VCALENDAR
VERSION:2.0
PRODID:-//eventon.com NONSGML v1.0//EN
CALSCALE:GREGORIAN
METHOD:PUBLISH
BEGIN:VEVENT
UID:69e6c7cf8c450
DTSTAMP:20260421T004151Z
DTSTART:20241207T090000Z
DTEND:20241207T140000Z
LOCATION:Mountain Valley High School 799 Hancock St
SUMMARY:Christmas in the Valley Craft Fair
DESCRIPTION:\nhttps://rivervalleychamber.com/events/christmas-in-the-valley
 -craft-fair-2/
URL:https://rivervalleychamber.com/events/christmas-in-the-valley-craft-fair-2/
END:VEVENT
END:VCALENDAR