BEGIN:VCALENDAR
VERSION:2.0
PRODID:-//eventon.com NONSGML v1.0//EN
CALSCALE:GREGORIAN
METHOD:PUBLISH
BEGIN:VEVENT
UID:69e6606623a5b
DTSTAMP:20260420T172038Z
DTSTART:20240824T170000Z
DTEND:20240824T210000Z
LOCATION:Larry Labonte Recovery Center Waldo Street
SUMMARY:Block Party Street Dance
DESCRIPTION:Larry Labonte Recovery Center\nhttps://rivervalleychamber.com/e
 vents/block-party-street-dance/
URL:https://rivervalleychamber.com/events/block-party-street-dance/
END:VEVENT
END:VCALENDAR